BEGIN:VCALENDAR
VERSION:2.0
PRODID:-//Divulgazione Astronomica OAR - ECPv5.16.1.1//NONSGML v1.0//EN
CALSCALE:GREGORIAN
METHOD:PUBLISH
X-WR-CALNAME:Divulgazione Astronomica OAR
X-ORIGINAL-URL:https://diva.oa-roma.inaf.it
X-WR-CALDESC:Eventi per Divulgazione Astronomica OAR
BEGIN:VTIMEZONE
TZID:Europe/Rome
BEGIN:DAYLIGHT
TZOFFSETFROM:+0100
TZOFFSETTO:+0200
TZNAME:CEST
DTSTART:20190331T010000
END:DAYLIGHT
BEGIN:STANDARD
TZOFFSETFROM:+0200
TZOFFSETTO:+0100
TZNAME:CET
DTSTART:20191027T010000
END:STANDARD
END:VTIMEZONE
BEGIN:VEVENT
DTSTART;TZID=Europe/Rome:20190408T090000
DTEND;TZID=Europe/Rome:20190414T180000
DTSTAMP:20260425T173934
CREATED:20190321T224012Z
LAST-MODIFIED:20190321T224012Z
UID:1006-1554714000-1555264800@diva.oa-roma.inaf.it
SUMMARY:Festival della Scienza di Roma
DESCRIPTION:Anche quest’anno l’INAF è presente al National Geographic Festival delle Scienze di Roma presso l’Auditorium Parco della Musica dall’8 al 14 aprile. Ci saranno mostre\, seminari\, spettacoli teatrali e laboratori scientifici curati dal nostro istituto. In particolare l’Osservatorio di Roma gestirà due laboratori didattici su due temi estremamente interessanti: le comete e le costellazioni. \nIngresso Gratuito. \nDal lunedì al venerdì i laboratori sono riservati al pubblico scolastico e per partecipare è necessario prenotarsi contattando l’organizzazione al seguente indirizzo e-mail:  educational@musicaperroma.it \nSabato e domenica ingresso libero fino ad esaurimento posti. \n\nAccendiamo le costellazioni\nTarget 9 – 12 anni \nIl laboratorio si propone di avvicinare gli studenti all’elettronica\, usando l’astronomia come filo conduttore per realizzare un prodotto di notevole impatto visivo: un paper circuit nel quale le stelle delle costellazioni si accendono\, brillando su un cartoncino nero appositamente progettato per il laboratorio. Il paper circuit è un circuito elettrico a bassa tensione creato su un foglio di carta usando un nastro conduttivo di rame\, Led e una piccola batteria a bottone. \nMille code blu\nTarget  6 -11 anni \nLe comete sono tra i corpi più misteriosi\, studiati ed affascinanti del Sistema Solare. Sin dall’antichità l’uomo ne ha sempre ammirato e temuto il passaggio. Il laboratorio cerca di riassumere quanto siamo riusciti a scoprire su questi corpi celesti. Realizzando un nucleo cometario\, a partire dai costituenti base delle comete\, si mostrerà al pubblico come sono fatte e come sia possibile che\, avvicinandosi al Sole\, possano sviluppare chiome e code variopinte visibili ad occhio nudo dalla Terra.
URL:https://diva.oa-roma.inaf.it/evento/festival-della-scienza-di-roma/
CATEGORIES:Special Events
ATTACH;FMTTYPE=image/jpeg:https://diva.oa-roma.inaf.it/wp-content/uploads/2019/03/screen-capture-89.jpg
END:VEVENT
END:VCALENDAR