BEGIN:VCALENDAR
VERSION:2.0
PRODID:-//Divulgazione Astronomica OAR - ECPv5.16.1.1//NONSGML v1.0//EN
CALSCALE:GREGORIAN
METHOD:PUBLISH
X-WR-CALNAME:Divulgazione Astronomica OAR
X-ORIGINAL-URL:https://diva.oa-roma.inaf.it
X-WR-CALDESC:Eventi per Divulgazione Astronomica OAR
BEGIN:VTIMEZONE
TZID:Europe/Rome
BEGIN:DAYLIGHT
TZOFFSETFROM:+0100
TZOFFSETTO:+0200
TZNAME:CEST
DTSTART:20190331T010000
END:DAYLIGHT
BEGIN:STANDARD
TZOFFSETFROM:+0200
TZOFFSETTO:+0100
TZNAME:CET
DTSTART:20191027T010000
END:STANDARD
END:VTIMEZONE
BEGIN:VEVENT
DTSTART;TZID=Europe/Rome:20190412T140000
DTEND;TZID=Europe/Rome:20190412T200000
DTSTAMP:20260425T173923
CREATED:20190405T120455Z
LAST-MODIFIED:20190407T234608Z
UID:1078-1555077600-1555099200@diva.oa-roma.inaf.it
SUMMARY:Frascati in Rosa
DESCRIPTION:Quest’anno la carovana rosa del Giro d’Italia farà tappa a Frascati il 14 e 15 maggio. Per l’occasione la cittadina dei Castelli Romani ha organizzato Frascati in Rosa una serie di eventi di avvicinamento all’evento di maggio per far conoscere le eccellenze del territorio\, dalla storia alla gastronomia\, dall’arte alla scienza. \nFrascati rappresenta uno dei maggiori poli scientifici a livello europeo. Sul territorio tuscolano insistono numerosi enti di ricerca nazionali ed europei che\, in occasione di Frascati in Rosa\, contribuiranno alla manifestazione aprendo le porte dei propri istituti per rendere fruibili i propri laboratori. \nIl 12 aprile è la data dedicata alla promozione scientifica del territorio e l’INAF – Osservatorio Astronomico di Roma non poteva sottrarsi all’occasione di meravigliare il pubblico presentando le ricerche in cui sono coinvolti i propri ricercatori. Pertanto dalle 14:00 alle 20:00 gli appassionati di astronomia\, o i semplici curiosi di scienza\, sono invitati a visitare l’Osservatorio dove saranno organizzate una serie di conferenze ed osservazioni solari con i telescopi didattici del Gruppo DivA. Sotto sono riportate le informazioni riguardanti i seminari proposti. \n\nInfo generali:\n\nTurni d’ingresso:\n\n14:00\n15:30\n17:00\n18:30\n\n\nIngresso gratuito\nPrenotazione obbligatoria al link: PRENOTAZIONI OAR\n\n\n \n\n\n\n	\n14:30 - I mille colori dei Buchi Neri\n\nPiergiorgio Casella\n\n\n\n	Che cosa è un Buco Nero? Come nasce\, come lo troviamo\, cosa sappiamo su di lui? Può essere pericoloso? Ma soprattutto...è veramente nero?! Scopriamo insieme cosa sappiamo di questi veri e propri mostri cosmici\, e come fanno gli scienziati a studiarli. \n\n\n	Nasce a Roma nel 1973\, scopre la passione per la Fisica al Liceo\, e quella per l'Astrofisica all'Università di Tor Vergata. Inizia a studiare i buchi neri durante la tesi di laurea\, e da allora non ha più smesso. Per alcuni anni lo fa all'estero\, prima in Olanda poi in Inghilterra\, per poi tornare in Italia nel 2011\, come Ricercatore Astronomo presso l'INAF - Osservatorio Astronomico di Roma. Per studiare i buchi neri utilizza da anni molti dei piu' grandi telescopi esistenti\, a tutte le lunghezze d'onda\, sia da terra che dallo spazio. \n\n\n	\n16:00 - La Luna è bella!\n\nFabrizio Vitali\n\n\n\n	La Luna\, meraviglioso spettacolo del cielo notturno\, ha da sempre mosso la curiosità e l’immaginazione dell’Uomo\, ha reso familiare questo cielo sempre più invisibile a noi\, cittadini moderni di città lucentissime. La Luna racchiude in sé l’ignoto e il conosciuto\, la bellezza del Cosmo e il terrore del vuoto. Una divagazione intorno ad uno spicchio di Luna \, per scoprire aspetti noti e meno del nostro unico\, solitario satellite naturale. \n\n\n	Nasce a Roma il 19 Ottobre 1962. Si laurea in Fisica presso l’Universita` degli Studi de La Sapienza di Roma. Dal 1996 e` Ricercatore Astronomo presso l’INAF – Osservatorio Astronomico di Roma. Si occupa di Astronomia Infrarossa\, nei suoi aspetti tecnologici e scientifici\, costruendo strumentazione di piano focale e poi utilizzandola per studi sulla formazione stellare. Da anni si occupa di didattica e divulgazione scientifica\, come docente e astronomo\, nell’ambito di progetti dedicati al pubblico\, nelle Scuole (di ogni ordine e grado) e nell’ambito della normale attività di divulgazione del proprio Istituto. In particolare\, ha scritto e interpretato due conferenze-spettacolo sulla vicenda umana\, storica e scientifica di Galileo Galilei\, e una conferenza-spettacolo sulla nascita delle stelle. \n\n\n	18:00 - La Formazione delle galassie e l’evoluzione\n\nNicola Menci\n\n\n\n	Le galassie sono i mattoni fondamentali di un ricchissima gerarchia di strutture dell’Universo. Lo studio della loro formazione e’\n costituisce non solo una delle indagini piu’ affascinanti della moderna astrofisica\, ma e’ la chiave per comprendere la storia della evoluzione dell’intero Universo e delle sue componenti piu’ misteriose\, la Materia Oscura e l’Energia Oscura.\n \n\n\n	Nicola Menci nasce a Modena nel 1965. Si e’ laureato in Fisica alla Universita' Roma Tor Vergata nel 1989\, e ottine nel 1993 il dottorato di ricerca in Fisica.  Nel 1989 ottiene una borsa di studio per studenti presso il CERN a Ginevra dove inizia il suo percorso di ricerca occupandosi di onde gravitazionali durante e immediatamente dopo la sua tesi di laurea. Dopo il dottorato si sposta presso la Scuola Superiore di Studi Avanzati di Trieste dove rimane fino al 1993. Dal 1993 lavora all’Osservatorio Astronomico di Roma (INAF).  E’ stato visiting scientist presso lo Space Telescope Institute a Baltimora\, e invited visiting scientist presso l’ESO a Monaco di Baviera e presso l’Observatoire de Paris. Si occupa da anni di formazione di galassie\, nuclei galattici attivi e cosmologia.\n \n\n\n	\n19:00 -  C'è nessuno? L'astronomia e la ricerca di nuovi mondi\n\nAngelo Antonelli\n\n\n\n	Lucio Angelo Antonelli è dal 2018 il Direttore dell'INAF - Osservatorio Astronomico di Roma. Nel 2017 è stato il Direttore dello Space Science Data Center dell'Agenzia Spaziale Italiana (ASI). Dal 2009 al 2017 è stato l'INAF Project Scientist dell'ex ASI Science Data Center. Dal 2007 è membro della Collaborazione internazionale che gestisce l'esperimento MAGIC alle Canarie dedicato ad osservare il cielo ai raggi gamma. Dal 2006 è coinvolto nel Cherenkov Telescope Array (CTA) International Project ed in particolare al progetto ASTRI dell'INAF di cui è responsabile dell'analisi e dell'archiviazione dei dati scientifici. La sua carriera scientifica è stata dedicata allo studio dei fenomeni transienti nel cielo altamente energetici\, principalmente Gamma Ray Burst e più recentemente alle controparti elettromagnetiche di sorgenti di onde gravitazionali e di neutrini. A tale scopo ha collaborato attivamente a diversi team scientifici nazionali e internazionali pubblicando oltre 300 articoli su riviste internazionali di astronomia. Nel 1998 ha ricevuto il Bruno Rossi Prize dell’American Astronomical Society (nominalmente con altri 19 scienziati) per la scoperta degli afterglow dei Gamma Ray Burst (Lampi Gamma). È membro del Consiglio Direttivo della Società Astronomica Italiana\, è membro della International Astronomical Union\, European Astronomical Society. \n\n\n	\n\n\n\n\n 
URL:https://diva.oa-roma.inaf.it/evento/frascati-in-rosa/
ATTACH;FMTTYPE=image/png:https://diva.oa-roma.inaf.it/wp-content/uploads/2019/04/Logo-Frascati-in-Rosa.png
END:VEVENT
END:VCALENDAR